BEGIN:VCALENDAR
VERSION:2.0
PRODID:-//Fotoğrafmetre - ECPv6.15.20//NONSGML v1.0//EN
CALSCALE:GREGORIAN
METHOD:PUBLISH
X-ORIGINAL-URL:https://fotografmetre.org
X-WR-CALDESC:Fotoğrafmetre için etkinlikler
REFRESH-INTERVAL;VALUE=DURATION:PT1H
X-Robots-Tag:noindex
X-PUBLISHED-TTL:PT1H
BEGIN:VTIMEZONE
TZID:Europe/Istanbul
BEGIN:STANDARD
TZOFFSETFROM:+0300
TZOFFSETTO:+0300
TZNAME:+03
DTSTART:20240101T000000
END:STANDARD
END:VTIMEZONE
BEGIN:VEVENT
DTSTART;TZID=Europe/Istanbul:20250529T193000
DTEND;TZID=Europe/Istanbul:20250529T230000
DTSTAMP:20260422T012708
CREATED:20250521T162719Z
LAST-MODIFIED:20250521T162719Z
UID:4634-1748547000-1748559600@fotografmetre.org
SUMMARY:2025 Sezon Sonu Buluşması
DESCRIPTION:Değerli üyelerimiz \n2024 – 2025 dönem sonu geleneksel buluşmamızı\n29 Mayıs Perşembe günü\, Caddebostan sahili Büyük Kulüp arkasında yapacağız. \nTÜM ÜYELERİMİZİ BEKLİYORUZ
URL:https://fotografmetre.org/event/2025-sezon-sonu-bulusmasi/
LOCATION:Cadde Bostan Sahil\, Büyük Kulüp Arkası
CATEGORIES:ÜYE BULUŞMASI
ATTACH;FMTTYPE=image/jpeg:https://fotografmetre.org/wp-content/uploads/2025/05/uye_bulusma_2025.jpg
END:VEVENT
END:VCALENDAR