BEGIN:VCALENDAR
VERSION:2.0
PRODID:-//Fotoğrafmetre - ECPv6.15.20//NONSGML v1.0//EN
CALSCALE:GREGORIAN
METHOD:PUBLISH
X-WR-CALNAME:Fotoğrafmetre
X-ORIGINAL-URL:https://fotografmetre.org
X-WR-CALDESC:Fotoğrafmetre için etkinlikler
REFRESH-INTERVAL;VALUE=DURATION:PT1H
X-Robots-Tag:noindex
X-PUBLISHED-TTL:PT1H
BEGIN:VTIMEZONE
TZID:Europe/Istanbul
BEGIN:STANDARD
TZOFFSETFROM:+0300
TZOFFSETTO:+0300
TZNAME:+03
DTSTART:20240101T000000
END:STANDARD
END:VTIMEZONE
BEGIN:VEVENT
DTSTART;TZID=Europe/Istanbul:20250130T193000
DTEND;TZID=Europe/Istanbul:20250130T220000
DTSTAMP:20260423T133935
CREATED:20250122T121351Z
LAST-MODIFIED:20250122T121430Z
UID:3527-1738265400-1738274400@fotografmetre.org
SUMMARY:30 Ocak 2025 Üye Buluşması
DESCRIPTION:Değerli üyelerimiz\, geleneksel üye buluşmamızı 30 Ocak Perşembe günü\, Rimer merkezinde gerçekleştireceğiz. \nAdres Bilgilerini haritadan görebilirsiniz.
URL:https://fotografmetre.org/event/30-ocak-2025-uye-bulusmasi/
LOCATION:RİMER\, Örnek\, Fehmı Tokay Caddesı No:23\, 34704 Ataşehir/İstanbul\, İstanbul\, İstanbul\, 34744\, Turkey
CATEGORIES:ÜYE BULUŞMASI
ATTACH;FMTTYPE=image/jpeg:https://fotografmetre.org/wp-content/uploads/2025/01/30OCAK_UYEBULUSMASI.jpg
END:VEVENT
END:VCALENDAR