BEGIN:VCALENDAR
VERSION:2.0
PRODID:-//Fotoğrafmetre - ECPv6.15.20//NONSGML v1.0//EN
CALSCALE:GREGORIAN
METHOD:PUBLISH
X-ORIGINAL-URL:https://fotografmetre.org
X-WR-CALDESC:Fotoğrafmetre için etkinlikler
REFRESH-INTERVAL;VALUE=DURATION:PT1H
X-Robots-Tag:noindex
X-PUBLISHED-TTL:PT1H
BEGIN:VTIMEZONE
TZID:Europe/Istanbul
BEGIN:STANDARD
TZOFFSETFROM:+0300
TZOFFSETTO:+0300
TZNAME:+03
DTSTART:20240101T000000
END:STANDARD
END:VTIMEZONE
BEGIN:VEVENT
DTSTART;TZID=Europe/Istanbul:20250407T200000
DTEND;TZID=Europe/Istanbul:20250407T223000
DTSTAMP:20260423T133701
CREATED:20250328T120245Z
LAST-MODIFIED:20250328T125139Z
UID:4167-1744056000-1744065000@fotografmetre.org
SUMMARY:Gezi Fotoğrafçılığı Buluşmaları
DESCRIPTION:07 Nisan 2025\, saat 20:00 ‘ da Gezi fotoğrafçılığı buluşmaları başlığı ile Değerli Fotoğraf ustalarımızla yapacağımız panele davetlisiniz. \n 
URL:https://fotografmetre.org/event/gezi-fotografciligi-bulusmalari/
LOCATION:Kozzy AVM Kozyatağı\, Kozyatağı\, Buket Sk. No:14\, 34742 Kadıköy/İstanbul\, İstanbul\, İstanbul\, Turkey
CATEGORIES:Sunum Söyleşi
ATTACH;FMTTYPE=image/jpeg:https://fotografmetre.org/wp-content/uploads/2025/03/fotografmetre_geifotografciligi.jpg
END:VEVENT
END:VCALENDAR