BEGIN:VCALENDAR
VERSION:2.0
PRODID:-//Fotoğrafmetre - ECPv6.15.20//NONSGML v1.0//EN
CALSCALE:GREGORIAN
METHOD:PUBLISH
X-WR-CALNAME:Fotoğrafmetre
X-ORIGINAL-URL:https://fotografmetre.org
X-WR-CALDESC:Fotoğrafmetre için etkinlikler
REFRESH-INTERVAL;VALUE=DURATION:PT1H
X-Robots-Tag:noindex
X-PUBLISHED-TTL:PT1H
BEGIN:VTIMEZONE
TZID:Europe/Istanbul
BEGIN:STANDARD
TZOFFSETFROM:+0300
TZOFFSETTO:+0300
TZNAME:+03
DTSTART:20240101T000000
END:STANDARD
END:VTIMEZONE
BEGIN:VEVENT
DTSTART;TZID=Europe/Istanbul:20250327T203000
DTEND;TZID=Europe/Istanbul:20250327T220000
DTSTAMP:20260424T012031
CREATED:20250314T114638Z
LAST-MODIFIED:20250320T133509Z
UID:3970-1743107400-1743112800@fotografmetre.org
SUMMARY:Serkan Turaç Sunum Söyleşi
DESCRIPTION:27 Mart 2025 tarihin de zoom sunum söyleşi misafirimiz Sevgili Serkan Turaç. \nZoom id: 879 2580 0959\nŞifre: 270912
URL:https://fotografmetre.org/event/serkan-turac-sunum-soylesi/
LOCATION:ZOOM
CATEGORIES:Sunum Söyleşi
ATTACH;FMTTYPE=image/jpeg:https://fotografmetre.org/wp-content/uploads/2025/03/20_mart_serkan_turac.jpg
END:VEVENT
END:VCALENDAR