BEGIN:VCALENDAR
VERSION:2.0
PRODID:-//Fotoğrafmetre - ECPv6.15.20//NONSGML v1.0//EN
CALSCALE:GREGORIAN
METHOD:PUBLISH
X-ORIGINAL-URL:https://fotografmetre.org
X-WR-CALDESC:Fotoğrafmetre için etkinlikler
REFRESH-INTERVAL;VALUE=DURATION:PT1H
X-Robots-Tag:noindex
X-PUBLISHED-TTL:PT1H
BEGIN:VTIMEZONE
TZID:Europe/Istanbul
BEGIN:STANDARD
TZOFFSETFROM:+0300
TZOFFSETTO:+0300
TZNAME:+03
DTSTART:20240101T000000
END:STANDARD
END:VTIMEZONE
BEGIN:VEVENT
DTSTART;TZID=Europe/Istanbul:20250306T203000
DTEND;TZID=Europe/Istanbul:20250306T220000
DTSTAMP:20260423T074006
CREATED:20250227T121003Z
LAST-MODIFIED:20250227T121003Z
UID:3935-1741293000-1741298400@fotografmetre.org
SUMMARY:Galip Çetiner -  Sunum Söyleşi
DESCRIPTION:Mart ayı ilk zoom Sunum ve söyleşi etkinliğimize Sayın Galip Çetiner ile başlıyoruz. \nDoğa ve kırsal yaşam fotoğrafçılığı ile birlikte özellikle uzun pozlama ve infrared (kızıl ötesi) fotoğrafçılık ile yoğun olarak ilgilenmekte.\n“LAFOTEN” ve ” DÜŞ OLUP YİTESİM VAR” sunumları ile\n06 Mart 2025\nSaat: 20:30\nZoom id: 840 0437 2286\nŞifre: 270912 \nSöyleşimiz Tüm fotoğraf severlere açıktır
URL:https://fotografmetre.org/event/galip-cetiner-sunum-soylesi/
LOCATION:ZOOM
CATEGORIES:Sunum Söyleşi
ATTACH;FMTTYPE=image/jpeg:https://fotografmetre.org/wp-content/uploads/2025/02/6_mart_galipcetiner.jpg
END:VEVENT
END:VCALENDAR