BEGIN:VCALENDAR
VERSION:2.0
PRODID:-//Fotoğrafmetre - ECPv6.15.20//NONSGML v1.0//EN
CALSCALE:GREGORIAN
METHOD:PUBLISH
X-ORIGINAL-URL:https://fotografmetre.org
X-WR-CALDESC:Fotoğrafmetre için etkinlikler
REFRESH-INTERVAL;VALUE=DURATION:PT1H
X-Robots-Tag:noindex
X-PUBLISHED-TTL:PT1H
BEGIN:VTIMEZONE
TZID:Europe/Istanbul
BEGIN:STANDARD
TZOFFSETFROM:+0300
TZOFFSETTO:+0300
TZNAME:+03
DTSTART:20240101T000000
END:STANDARD
END:VTIMEZONE
BEGIN:VEVENT
DTSTART;TZID=Europe/Istanbul:20250206T203000
DTEND;TZID=Europe/Istanbul:20250206T213000
DTSTAMP:20260424T024444
CREATED:20250123T143811Z
LAST-MODIFIED:20250123T143811Z
UID:3656-1738873800-1738877400@fotografmetre.org
SUMMARY:6 Şubat Aylin Turnator
DESCRIPTION:6 Şubat Perşembe Sunum Söyleşi misafirimiz Sayın Aylin Turnator. \nSöyleşimiz Zoom üzerinden tüm fotoğraf severlere açıktır. \nZoom Toplantı id: 832 2883 0104\nZoom şifre : 270912
URL:https://fotografmetre.org/event/6-subat-aylin-turnator/
LOCATION:ZOOM
CATEGORIES:Sunum Söyleşi
ATTACH;FMTTYPE=image/jpeg:https://fotografmetre.org/wp-content/uploads/2025/01/6_subat_sunum_aylin.jpg
END:VEVENT
END:VCALENDAR