BEGIN:VCALENDAR
VERSION:2.0
PRODID:-//Fotoğrafmetre - ECPv6.15.20//NONSGML v1.0//EN
CALSCALE:GREGORIAN
METHOD:PUBLISH
X-ORIGINAL-URL:https://fotografmetre.org
X-WR-CALDESC:Fotoğrafmetre için etkinlikler
REFRESH-INTERVAL;VALUE=DURATION:PT1H
X-Robots-Tag:noindex
X-PUBLISHED-TTL:PT1H
BEGIN:VTIMEZONE
TZID:Europe/Istanbul
BEGIN:STANDARD
TZOFFSETFROM:+0300
TZOFFSETTO:+0300
TZNAME:+03
DTSTART:20240101T000000
END:STANDARD
END:VTIMEZONE
BEGIN:VEVENT
DTSTART;TZID=Europe/Istanbul:20250206T203000
DTEND;TZID=Europe/Istanbul:20250206T213000
DTSTAMP:20260423T235434
CREATED:20250123T143811Z
LAST-MODIFIED:20250123T143811Z
UID:3656-1738873800-1738877400@fotografmetre.org
SUMMARY:6 Şubat Aylin Turnator
DESCRIPTION:6 Şubat Perşembe Sunum Söyleşi misafirimiz Sayın Aylin Turnator. \nSöyleşimiz Zoom üzerinden tüm fotoğraf severlere açıktır. \nZoom Toplantı id: 832 2883 0104\nZoom şifre : 270912
URL:https://fotografmetre.org/event/6-subat-aylin-turnator/
LOCATION:ZOOM
CATEGORIES:Sunum Söyleşi
ATTACH;FMTTYPE=image/jpeg:https://fotografmetre.org/wp-content/uploads/2025/01/6_subat_sunum_aylin.jpg
END:VEVENT
BEGIN:VEVENT
DTSTART;TZID=Europe/Istanbul:20250220T203000
DTEND;TZID=Europe/Istanbul:20250220T220000
DTSTAMP:20260423T235434
CREATED:20250123T145312Z
LAST-MODIFIED:20250123T145312Z
UID:3668-1740083400-1740088800@fotografmetre.org
SUMMARY:20 Şubat Sunum Söyleşi Berna İkiz
DESCRIPTION:18 Şubat sunum söyleşi misafirimiz Berna İkiz\, \nDört fotoğraf sunumu ile tüm fotoğraf severleri zoom toplantımıza bekliyoruz. \nZoom Toplantı id: 832 2883 0104\nZoom şifre : 270912
URL:https://fotografmetre.org/event/20-subat-sunum-soylesi-berna-ikiz/
LOCATION:ZOOM
CATEGORIES:Sunum Söyleşi
ATTACH;FMTTYPE=image/jpeg:https://fotografmetre.org/wp-content/uploads/2025/01/20_subat_sunum_berna.jpg
END:VEVENT
BEGIN:VEVENT
DTSTART;TZID=Europe/Istanbul:20250227T203000
DTEND;TZID=Europe/Istanbul:20250227T213000
DTSTAMP:20260423T235434
CREATED:20250212T100031Z
LAST-MODIFIED:20250212T100031Z
UID:3734-1740688200-1740691800@fotografmetre.org
SUMMARY:27 Şubat Sunum Söyleşi Hakan Yaşar
DESCRIPTION:27 Şubat tarihin de sunum söyleşi de Sayın Hakan Yaşar misafirimiz oluyor.\nZoom üzerinden yapılacak söyleşiye tüm fotoğraf severler davetlidir. \n27 Şubat – Saat 20:30\nZoo id: 850 8678 0666\nŞifre : 270912
URL:https://fotografmetre.org/event/27-subat-sunum-soylesi-hakan-yasar/
LOCATION:ZOOM
CATEGORIES:Sunum Söyleşi
ATTACH;FMTTYPE=image/jpeg:https://fotografmetre.org/wp-content/uploads/2025/02/fotografmetre_hakan_sunum.jpg
END:VEVENT
END:VCALENDAR