BEGIN:VCALENDAR
VERSION:2.0
PRODID:-//Fotoğrafmetre - ECPv6.15.20//NONSGML v1.0//EN
CALSCALE:GREGORIAN
METHOD:PUBLISH
X-ORIGINAL-URL:https://fotografmetre.org
X-WR-CALDESC:Fotoğrafmetre için etkinlikler
REFRESH-INTERVAL;VALUE=DURATION:PT1H
X-Robots-Tag:noindex
X-PUBLISHED-TTL:PT1H
BEGIN:VTIMEZONE
TZID:Europe/Istanbul
BEGIN:STANDARD
TZOFFSETFROM:+0300
TZOFFSETTO:+0300
TZNAME:+03
DTSTART:20240101T000000
END:STANDARD
END:VTIMEZONE
BEGIN:VEVENT
DTSTART;TZID=Europe/Istanbul:20251006T200000
DTEND;TZID=Europe/Istanbul:20251016T170000
DTSTAMP:20260419T184517
CREATED:20250920T102902Z
LAST-MODIFIED:20250920T102902Z
UID:4713-1759780800-1760634000@fotografmetre.org
SUMMARY:3 Boyutlu Fotoğraf Sergimiz Türkan Saylan Kültür Merkezinde
DESCRIPTION:2025-2026 yılı sezonu ilk sergimiz Türkan Saylan Kültür Merkezinde\,\nYıl içerisinde farklı salonlar da sanatseverlerin beğenisine sunulan ve yoğun ilgi gören 3D sergimiz 06 Ekim – 19 Ekim tarihleri arasında Maltepe Belediyesini de destekleri ile Türkan Saylan Kültür Merkezinde siz sanat severlerin beğenisine sunulacak.
URL:https://fotografmetre.org/event/3-boyutlu-fotograf-sergimiz-turkan-saylan-kultur-merkezinde/
LOCATION:Türkan Saylan Kültür Merkezi\, Gülsuyu\, Gülsuyu Kavşağı No:100\, 34848 Maltepe/İstanbul\, İstanbul\, İstanbul
CATEGORIES:SERGİ
ATTACH;FMTTYPE=image/jpeg:https://fotografmetre.org/wp-content/uploads/2025/09/fotografmetre_ucD_turkan_saylan.jpg
END:VEVENT
END:VCALENDAR