BEGIN:VCALENDAR
VERSION:2.0
PRODID:-//Fotoğrafmetre - ECPv6.15.20//NONSGML v1.0//EN
CALSCALE:GREGORIAN
METHOD:PUBLISH
X-ORIGINAL-URL:https://fotografmetre.org
X-WR-CALDESC:Fotoğrafmetre için etkinlikler
REFRESH-INTERVAL;VALUE=DURATION:PT1H
X-Robots-Tag:noindex
X-PUBLISHED-TTL:PT1H
BEGIN:VTIMEZONE
TZID:Europe/Istanbul
BEGIN:STANDARD
TZOFFSETFROM:+0300
TZOFFSETTO:+0300
TZNAME:+03
DTSTART:20240101T000000
END:STANDARD
END:VTIMEZONE
BEGIN:VEVENT
DTSTART;TZID=Europe/Istanbul:20250324T193000
DTEND;TZID=Europe/Istanbul:20250330T203000
DTSTAMP:20260422T142456
CREATED:20250323T135142Z
LAST-MODIFIED:20250325T140013Z
UID:4003-1742844600-1743366600@fotografmetre.org
SUMMARY:Sergi Açılışı - Geometrik Hayatlar
DESCRIPTION:Danışmanlığını Timur Türkmen ve Soner Arkan’ın yaptığı ” Sokak Fotoğrafçılığı Atölyemizin” Geometrik hayatlar Fotoğraf sergisi 24 Mart Pazartesi Saat: 19:30’da Kozzy AVM de açılıyor.\n30 Mart tarihine kadar sergimizi ziyaret edebilirsiniz.
URL:https://fotografmetre.org/event/sergi-acilisi-geometrik-hayatlar/
LOCATION:Kozzy AVM Kozyatağı\, Kozyatağı\, Buket Sk. No:14\, 34742 Kadıköy/İstanbul\, İstanbul\, İstanbul\, Turkey
CATEGORIES:SERGİ
ATTACH;FMTTYPE=image/jpeg:https://fotografmetre.org/wp-content/uploads/2025/03/fotografmetre_geometrik_hayatlar.jpg
END:VEVENT
END:VCALENDAR