BEGIN:VCALENDAR
VERSION:2.0
PRODID:-//Fotoğrafmetre - ECPv6.15.20//NONSGML v1.0//EN
CALSCALE:GREGORIAN
METHOD:PUBLISH
X-WR-CALNAME:Fotoğrafmetre
X-ORIGINAL-URL:https://fotografmetre.org
X-WR-CALDESC:Fotoğrafmetre için etkinlikler
REFRESH-INTERVAL;VALUE=DURATION:PT1H
X-Robots-Tag:noindex
X-PUBLISHED-TTL:PT1H
BEGIN:VTIMEZONE
TZID:Europe/Istanbul
BEGIN:STANDARD
TZOFFSETFROM:+0300
TZOFFSETTO:+0300
TZNAME:+03
DTSTART:20250101T000000
END:STANDARD
END:VTIMEZONE
BEGIN:VEVENT
DTSTART;TZID=Europe/Istanbul:20260310T193000
DTEND;TZID=Europe/Istanbul:20260310T203000
DTSTAMP:20260420T140718
CREATED:20260225T133925Z
LAST-MODIFIED:20260225T133925Z
UID:5057-1773171000-1773174600@fotografmetre.org
SUMMARY:Gece Fotoğrafçılığı Eğitimi Şevki Silan
DESCRIPTION:Fotoğraf pratiğimizi arttırmak hem de üyelerimiz ile daha fazla  yüzyüze gelmek  niyeti ile akşam üstü ve gece çekimleri ile ayda bir kaç kere biraraya geleceğiz.\nGece fotoğrafçılığı ilk toplantımızı Şevki Silan danışmanlığın da  Barış Manço Kültür Merkezinde gerçekleştireceğiz. \nBir arada olmayı özleyen üyelerimizi bekliyoruz.
URL:https://fotografmetre.org/event/gece-fotografciligi-egitimi-sevki-silan/
LOCATION:Barış Manço Kültür Merkezi\, Caferağa\, Nailbey Sk.\, 34710 Kadıköy/İstanbul\, İstanbul\, İstanbul\, 34744\, Turkey
CATEGORIES:PROJE TOPLANTISI
ATTACH;FMTTYPE=image/jpeg:https://fotografmetre.org/wp-content/uploads/2026/02/10_mart_sevkisilan_yatay-scaled.jpg
END:VEVENT
END:VCALENDAR