BEGIN:VCALENDAR
VERSION:2.0
PRODID:-//Fotoğrafmetre - ECPv6.15.20//NONSGML v1.0//EN
CALSCALE:GREGORIAN
METHOD:PUBLISH
X-ORIGINAL-URL:https://fotografmetre.org
X-WR-CALDESC:Fotoğrafmetre için etkinlikler
REFRESH-INTERVAL;VALUE=DURATION:PT1H
X-Robots-Tag:noindex
X-PUBLISHED-TTL:PT1H
BEGIN:VTIMEZONE
TZID:Europe/Istanbul
BEGIN:STANDARD
TZOFFSETFROM:+0300
TZOFFSETTO:+0300
TZNAME:+03
DTSTART:20250101T000000
END:STANDARD
END:VTIMEZONE
BEGIN:VEVENT
DTSTART;TZID=Europe/Istanbul:20260217T193000
DTEND;TZID=Europe/Istanbul:20260217T213000
DTSTAMP:20260420T161455
CREATED:20260127T154841Z
LAST-MODIFIED:20260205T145034Z
UID:4854-1771356600-1771363800@fotografmetre.org
SUMMARY:Belgesel Fotoğrafçılık Proje Toplantısı
DESCRIPTION:Bir yıldır devam etmekte olduğumuz Belgesel Fotoğrafçılık  atölyemiz\, Özer Kanburoğlu danışmanlığında 17 Şubat saat: 19.30 da Barış Manço Kültür Merkezinde.
URL:https://fotografmetre.org/event/belgesel-fotografcilik-proje-toplantisi-4/
LOCATION:Barış Manço Kültür Merkezi\, Caferağa\, Nailbey Sk.\, 34710 Kadıköy/İstanbul\, İstanbul\, İstanbul\, 34744\, Turkey
CATEGORIES:PROJE TOPLANTISI
ATTACH;FMTTYPE=image/jpeg:https://fotografmetre.org/wp-content/uploads/2026/01/fotografmetre_17subat_belgesel.jpg
END:VEVENT
END:VCALENDAR