BEGIN:VCALENDAR
VERSION:2.0
PRODID:-//Fotoğrafmetre - ECPv6.15.20//NONSGML v1.0//EN
CALSCALE:GREGORIAN
METHOD:PUBLISH
X-ORIGINAL-URL:https://fotografmetre.org
X-WR-CALDESC:Fotoğrafmetre için etkinlikler
REFRESH-INTERVAL;VALUE=DURATION:PT1H
X-Robots-Tag:noindex
X-PUBLISHED-TTL:PT1H
BEGIN:VTIMEZONE
TZID:Europe/Istanbul
BEGIN:STANDARD
TZOFFSETFROM:+0300
TZOFFSETTO:+0300
TZNAME:+03
DTSTART:20250101T000000
END:STANDARD
END:VTIMEZONE
BEGIN:VEVENT
DTSTART;TZID=Europe/Istanbul:20260210T193000
DTEND;TZID=Europe/Istanbul:20260210T213000
DTSTAMP:20260420T161617
CREATED:20260127T154138Z
LAST-MODIFIED:20260205T144709Z
UID:4848-1770751800-1770759000@fotografmetre.org
SUMMARY:İleri Pozlama Teknikleri
DESCRIPTION:Şevki Silan danışmanlığındaki ileri pozlama teknikleri seminerimiz 10 Şubat Saat: 19.30 da Barış Manço Kültür Merkezinde…
URL:https://fotografmetre.org/event/ileri-pozlama-teknikleri/
LOCATION:Barış Manço Kültür Merkezi\, Caferağa\, Nailbey Sk.\, 34710 Kadıköy/İstanbul\, İstanbul\, İstanbul\, 34744\, Turkey
CATEGORIES:PROJE TOPLANTISI
ATTACH;FMTTYPE=image/jpeg:https://fotografmetre.org/wp-content/uploads/2026/01/fotografmetre_10subat_ileri.jpg
END:VEVENT
END:VCALENDAR