BEGIN:VCALENDAR
VERSION:2.0
PRODID:-//Fotoğrafmetre - ECPv6.15.20//NONSGML v1.0//EN
CALSCALE:GREGORIAN
METHOD:PUBLISH
X-WR-CALNAME:Fotoğrafmetre
X-ORIGINAL-URL:https://fotografmetre.org
X-WR-CALDESC:Fotoğrafmetre için etkinlikler
REFRESH-INTERVAL;VALUE=DURATION:PT1H
X-Robots-Tag:noindex
X-PUBLISHED-TTL:PT1H
BEGIN:VTIMEZONE
TZID:Europe/Istanbul
BEGIN:STANDARD
TZOFFSETFROM:+0300
TZOFFSETTO:+0300
TZNAME:+03
DTSTART:20240101T000000
END:STANDARD
END:VTIMEZONE
BEGIN:VEVENT
DTSTART;TZID=Europe/Istanbul:20251223T193000
DTEND;TZID=Europe/Istanbul:20251223T213000
DTSTAMP:20260420T202142
CREATED:20251206T124157Z
LAST-MODIFIED:20251206T124157Z
UID:4809-1766518200-1766525400@fotografmetre.org
SUMMARY:Belgesel Fotoğrafçılık Proje Toplantısı
DESCRIPTION:1 yıldır devam eden Belgesel Fotoğrafçılık (Çarpık Kentleşme) Proje Toplantımız.\nBarış Manço Kültür Merkezinde 23 Aralık tarihinde…. \nProje üyelerini bekliyoruz.
URL:https://fotografmetre.org/event/belgesel-fotografcilik-proje-toplantisi-3/
LOCATION:Barış Manço Kültür Merkezi\, Caferağa\, Nailbey Sk.\, 34710 Kadıköy/İstanbul\, İstanbul\, İstanbul\, 34744\, Turkey
CATEGORIES:PROJE TOPLANTISI
ATTACH;FMTTYPE=image/jpeg:https://fotografmetre.org/wp-content/uploads/2025/12/23_ARALIK.jpg
END:VEVENT
END:VCALENDAR