BEGIN:VCALENDAR
VERSION:2.0
PRODID:-//Fotoğrafmetre - ECPv6.15.20//NONSGML v1.0//EN
CALSCALE:GREGORIAN
METHOD:PUBLISH
X-ORIGINAL-URL:https://fotografmetre.org
X-WR-CALDESC:Fotoğrafmetre için etkinlikler
REFRESH-INTERVAL;VALUE=DURATION:PT1H
X-Robots-Tag:noindex
X-PUBLISHED-TTL:PT1H
BEGIN:VTIMEZONE
TZID:Europe/Istanbul
BEGIN:STANDARD
TZOFFSETFROM:+0300
TZOFFSETTO:+0300
TZNAME:+03
DTSTART:20240101T000000
END:STANDARD
END:VTIMEZONE
BEGIN:VEVENT
DTSTART;TZID=Europe/Istanbul:20251125T193000
DTEND;TZID=Europe/Istanbul:20251125T220000
DTSTAMP:20260420T232223
CREATED:20251101T121509Z
LAST-MODIFIED:20251101T121509Z
UID:4763-1764099000-1764108000@fotografmetre.org
SUMMARY:Proje Toplantısı - Belgesel Fotoğrafçılık
DESCRIPTION:25 Kasım tarihinde Barış Manço Kültür Merkezin de Sayın Özer Kanburoğlu danışmanlığında Belgesel Fotoğrafçılık projesi fotoğraf değerlendirme toplantımızı gerçekleştireceğiz.\nProje katılımcı üyelerimizi bekliyoruz.
URL:https://fotografmetre.org/event/proje-toplantisi-belgesel-fotografcilik/
LOCATION:Barış Manço Kültür Merkezi\, Caferağa\, Nailbey Sk.\, 34710 Kadıköy/İstanbul\, İstanbul\, İstanbul\, 34744\, Turkey
CATEGORIES:PROJE TOPLANTISI
ATTACH;FMTTYPE=image/jpeg:https://fotografmetre.org/wp-content/uploads/2025/11/FOTOGRAFMETRE_25_KASIM.jpg
END:VEVENT
END:VCALENDAR