BEGIN:VCALENDAR
VERSION:2.0
PRODID:-//Fotoğrafmetre - ECPv6.15.20//NONSGML v1.0//EN
CALSCALE:GREGORIAN
METHOD:PUBLISH
X-WR-CALNAME:Fotoğrafmetre
X-ORIGINAL-URL:https://fotografmetre.org
X-WR-CALDESC:Fotoğrafmetre için etkinlikler
REFRESH-INTERVAL;VALUE=DURATION:PT1H
X-Robots-Tag:noindex
X-PUBLISHED-TTL:PT1H
BEGIN:VTIMEZONE
TZID:Europe/Istanbul
BEGIN:STANDARD
TZOFFSETFROM:+0300
TZOFFSETTO:+0300
TZNAME:+03
DTSTART:20240101T000000
END:STANDARD
END:VTIMEZONE
BEGIN:VEVENT
DTSTART;TZID=Europe/Istanbul:20250415T193000
DTEND;TZID=Europe/Istanbul:20250415T210000
DTSTAMP:20260421T121827
CREATED:20250401T125415Z
LAST-MODIFIED:20250401T125415Z
UID:4184-1744745400-1744750800@fotografmetre.org
SUMMARY:Mimari Fotoğrafçılık Atölye Toplantısı
DESCRIPTION:Her ay eğitim ve değerlendirmeleri devam eden Mimari Fotoğrafçılık Atölyemiz\, 15 Nisan Saat: 19.30 da Barış Manço Kültür Merkezinde.
URL:https://fotografmetre.org/event/mimari-fotografcilik-atolye-toplantisi/
LOCATION:Barış Manço Kültür Merkezi\, Caferağa\, Nailbey Sk.\, 34710 Kadıköy/İstanbul\, İstanbul\, İstanbul\, 34744\, Turkey
CATEGORIES:PROJE TOPLANTISI
ATTACH;FMTTYPE=image/jpeg:https://fotografmetre.org/wp-content/uploads/2025/04/15_nisan_mimari.jpg
END:VEVENT
END:VCALENDAR