BEGIN:VCALENDAR
VERSION:2.0
PRODID:-//Fotoğrafmetre - ECPv6.15.20//NONSGML v1.0//EN
CALSCALE:GREGORIAN
METHOD:PUBLISH
X-ORIGINAL-URL:https://fotografmetre.org
X-WR-CALDESC:Fotoğrafmetre için etkinlikler
REFRESH-INTERVAL;VALUE=DURATION:PT1H
X-Robots-Tag:noindex
X-PUBLISHED-TTL:PT1H
BEGIN:VTIMEZONE
TZID:Europe/Istanbul
BEGIN:STANDARD
TZOFFSETFROM:+0300
TZOFFSETTO:+0300
TZNAME:+03
DTSTART:20240101T000000
END:STANDARD
END:VTIMEZONE
BEGIN:VEVENT
DTSTART;TZID=Europe/Istanbul:20250213T203000
DTEND;TZID=Europe/Istanbul:20250213T220000
DTSTAMP:20260421T200032
CREATED:20250123T144703Z
LAST-MODIFIED:20250123T144703Z
UID:3662-1739478600-1739484000@fotografmetre.org
SUMMARY:13 Şubat Kadın ve Çocuk Proje Grubu Toplantısı
DESCRIPTION:13 Şubat tarihinde Kadın ve Çocuk Proje grubumuz Zoom üzerinden toplanıyor.\nProje grubu üyelerinin katılımını bekliyoruz. \nZoom Toplantı id: 832 2883 0104\nZoom şifre : 270912
URL:https://fotografmetre.org/event/13-subat-kadin-ve-cocuk-proje-grubu-toplantisi/
LOCATION:ZOOM
CATEGORIES:PROJE TOPLANTISI
ATTACH;FMTTYPE=image/jpeg:https://fotografmetre.org/wp-content/uploads/2025/01/13_subat_proje_kadinca.jpg
END:VEVENT
END:VCALENDAR