BEGIN:VCALENDAR
VERSION:2.0
PRODID:-//Fotoğrafmetre - ECPv6.15.20//NONSGML v1.0//EN
CALSCALE:GREGORIAN
METHOD:PUBLISH
X-ORIGINAL-URL:https://fotografmetre.org
X-WR-CALDESC:Fotoğrafmetre için etkinlikler
REFRESH-INTERVAL;VALUE=DURATION:PT1H
X-Robots-Tag:noindex
X-PUBLISHED-TTL:PT1H
BEGIN:VTIMEZONE
TZID:Europe/Istanbul
BEGIN:STANDARD
TZOFFSETFROM:+0300
TZOFFSETTO:+0300
TZNAME:+03
DTSTART:20240101T000000
END:STANDARD
END:VTIMEZONE
BEGIN:VEVENT
DTSTART;TZID=Europe/Istanbul:20250204T193000
DTEND;TZID=Europe/Istanbul:20250204T213000
DTSTAMP:20260421T182135
CREATED:20250123T143305Z
LAST-MODIFIED:20250123T143305Z
UID:3653-1738697400-1738704600@fotografmetre.org
SUMMARY:4 Şubat Doğa Proje Gurubu Toplantısı
DESCRIPTION:Doğa ve Manzara proje gurubu toplantısı.
URL:https://fotografmetre.org/event/4-subat-doga-proje-gurubu-toplantisi/
LOCATION:Barış Manço Kültür Merkezi\, Caferağa\, Nailbey Sk.\, 34710 Kadıköy/İstanbul\, İstanbul\, İstanbul\, 34744\, Turkey
CATEGORIES:PROJE TOPLANTISI
ATTACH;FMTTYPE=image/jpeg:https://fotografmetre.org/wp-content/uploads/2025/01/4_subat_doga_proje.jpg
END:VEVENT
END:VCALENDAR