BEGIN:VCALENDAR
VERSION:2.0
PRODID:-//Fotoğrafmetre - ECPv6.15.20//NONSGML v1.0//EN
CALSCALE:GREGORIAN
METHOD:PUBLISH
X-WR-CALNAME:Fotoğrafmetre
X-ORIGINAL-URL:https://fotografmetre.org
X-WR-CALDESC:Fotoğrafmetre için etkinlikler
REFRESH-INTERVAL;VALUE=DURATION:PT1H
X-Robots-Tag:noindex
X-PUBLISHED-TTL:PT1H
BEGIN:VTIMEZONE
TZID:Europe/Istanbul
BEGIN:STANDARD
TZOFFSETFROM:+0300
TZOFFSETTO:+0300
TZNAME:+03
DTSTART:20240101T000000
END:STANDARD
END:VTIMEZONE
BEGIN:VEVENT
DTSTART;TZID=Europe/Istanbul:20250128T193000
DTEND;TZID=Europe/Istanbul:20250128T213000
DTSTAMP:20260421T163343
CREATED:20250122T120312Z
LAST-MODIFIED:20250122T120312Z
UID:3524-1738092600-1738099800@fotografmetre.org
SUMMARY:28 Ocak Proje Toplantısı Kadın ve Çoçuk
DESCRIPTION:28 Ocak tarihinde ” Kadın ve Çocuk” Proje toplantımızı Fikriye Er ve Şevki Silan danışmanlığında gerçekleştireceğiz. Süreç içerisin de çekilen fotoğrafların değerlendirmesi ve bilgilendirmesi Barış Manço Kültür Merkezinde yapılacaktır.
URL:https://fotografmetre.org/event/28-ocak-proje-toplantisi-kadin-ve-cocuk/
LOCATION:Barış Manço Kültür Merkezi\, Caferağa\, Nailbey Sk.\, 34710 Kadıköy/İstanbul\, İstanbul\, İstanbul\, 34744\, Turkey
CATEGORIES:PROJE TOPLANTISI
ATTACH;FMTTYPE=image/jpeg:https://fotografmetre.org/wp-content/uploads/2024/12/28_ocak_Proje_kadinvecocuk.jpg
END:VEVENT
END:VCALENDAR