BEGIN:VCALENDAR
VERSION:2.0
PRODID:-//Fotoğrafmetre - ECPv6.15.20//NONSGML v1.0//EN
CALSCALE:GREGORIAN
METHOD:PUBLISH
X-ORIGINAL-URL:https://fotografmetre.org
X-WR-CALDESC:Fotoğrafmetre için etkinlikler
REFRESH-INTERVAL;VALUE=DURATION:PT1H
X-Robots-Tag:noindex
X-PUBLISHED-TTL:PT1H
BEGIN:VTIMEZONE
TZID:Europe/Istanbul
BEGIN:STANDARD
TZOFFSETFROM:+0300
TZOFFSETTO:+0300
TZNAME:+03
DTSTART:20240101T000000
END:STANDARD
END:VTIMEZONE
BEGIN:VEVENT
DTSTART;TZID=Europe/Istanbul:20250304T193000
DTEND;TZID=Europe/Istanbul:20250304T210000
DTSTAMP:20260421T150742
CREATED:20250227T120052Z
LAST-MODIFIED:20250227T120052Z
UID:3932-1741116600-1741122000@fotografmetre.org
SUMMARY:Doğa ve Manzara Grup Toplantısı
DESCRIPTION:Doğa ve Manzara Grup Toplantısı\, Şevki Silan danışmanlığın da.\n4 Mart tarihinde Barış Manço Kültür Merkezinde \nSaat: 19:30\nGrup üyelerimizi bekliyoruz.
URL:https://fotografmetre.org/event/doga-ve-manzara-grup-toplantisi/
LOCATION:Barış Manço Kültür Merkezi\, Caferağa\, Nailbey Sk.\, 34710 Kadıköy/İstanbul\, İstanbul\, İstanbul\, 34744\, Turkey
CATEGORIES:PROJE TOPLANTISI
ATTACH;FMTTYPE=image/jpeg:https://fotografmetre.org/wp-content/uploads/2025/02/4_mart_sevki_dogamanzara.jpg
END:VEVENT
BEGIN:VEVENT
DTSTART;TZID=Europe/Istanbul:20250311T193000
DTEND;TZID=Europe/Istanbul:20250311T210000
DTSTAMP:20260421T150742
CREATED:20250227T121632Z
LAST-MODIFIED:20250227T123708Z
UID:3938-1741721400-1741726800@fotografmetre.org
SUMMARY:Belgesel Fotoğrafçılık Proje Toplantısı
DESCRIPTION:2025 yılı yeni belgesel fotoğrafçılık atölyemiz Sayın Prf. Dr. Özer Kanburoğlu danışmanlığında 11 Martta ilk toplantısını gerçekleştirecek. \n11 Mart\, saat 19:30′ da ilk toplantımızı Barış Manço Kültür merkezinde gerçekleştiriyoruz.
URL:https://fotografmetre.org/event/belgesel-fotografcilik-proje-toplantisi/
LOCATION:Barış Manço Kültür Merkezi\, Caferağa\, Nailbey Sk.\, 34710 Kadıköy/İstanbul\, İstanbul\, İstanbul\, 34744\, Turkey
CATEGORIES:PROJE TOPLANTISI
ATTACH;FMTTYPE=image/jpeg:https://fotografmetre.org/wp-content/uploads/2025/02/11_mart_belgesel_ozer.jpg
END:VEVENT
BEGIN:VEVENT
DTSTART;TZID=Europe/Istanbul:20250318T193000
DTEND;TZID=Europe/Istanbul:20250318T213000
DTSTAMP:20260421T150742
CREATED:20250227T122750Z
LAST-MODIFIED:20250227T122750Z
UID:3944-1742326200-1742333400@fotografmetre.org
SUMMARY:Astro Fotoğrafçılık - Uğur Özoğul
DESCRIPTION:Sevgili Uğur Özoğul ile Astro Fotoğrafçılık projemiz \, üyelerimizin yoğun ilgisi ile devam ediyor.\n18 Mart akşamı saat 19:30 da bu ayki toplantımıza proje üyelerimizi Barış Manço Kültür Merkezine bekliyoruz. \n 
URL:https://fotografmetre.org/event/astro-fotografcilik-ugur-ozogul/
LOCATION:Barış Manço Kültür Merkezi\, Caferağa\, Nailbey Sk.\, 34710 Kadıköy/İstanbul\, İstanbul\, İstanbul\, 34744\, Turkey
CATEGORIES:PROJE TOPLANTISI
ATTACH;FMTTYPE=image/jpeg:https://fotografmetre.org/wp-content/uploads/2025/02/18_mart_ugur_astro.jpg
END:VEVENT
BEGIN:VEVENT
DTSTART;TZID=Europe/Istanbul:20250325T193000
DTEND;TZID=Europe/Istanbul:20250325T210000
DTSTAMP:20260421T150742
CREATED:20250227T123132Z
LAST-MODIFIED:20250227T123850Z
UID:3947-1742931000-1742936400@fotografmetre.org
SUMMARY:Mimari Fotoğraf Proje Toplantısı
DESCRIPTION:19. Fiap Dünya Kupasın da en iyi mimari fotoğraf ödülünü kazanan Sevgili Mehmet Çetin danışmanlığın da mimari fotoğrafçılık atölyemize\,  25 Mart Saat:19:30’da proje üyelerini bekliyoruz.
URL:https://fotografmetre.org/event/mimari-fotograf-proje-toplantisi/
LOCATION:Barış Manço Kültür Merkezi\, Caferağa\, Nailbey Sk.\, 34710 Kadıköy/İstanbul\, İstanbul\, İstanbul\, 34744\, Turkey
CATEGORIES:PROJE TOPLANTISI
ATTACH;FMTTYPE=image/jpeg:https://fotografmetre.org/wp-content/uploads/2025/02/25_mart_mimari_mehmet.jpg
END:VEVENT
END:VCALENDAR