BEGIN:VCALENDAR
VERSION:2.0
PRODID:-//Fotoğrafmetre - ECPv6.15.20//NONSGML v1.0//EN
CALSCALE:GREGORIAN
METHOD:PUBLISH
X-ORIGINAL-URL:https://fotografmetre.org
X-WR-CALDESC:Fotoğrafmetre için etkinlikler
REFRESH-INTERVAL;VALUE=DURATION:PT1H
X-Robots-Tag:noindex
X-PUBLISHED-TTL:PT1H
BEGIN:VTIMEZONE
TZID:Europe/Istanbul
BEGIN:STANDARD
TZOFFSETFROM:+0300
TZOFFSETTO:+0300
TZNAME:+03
DTSTART:20250101T000000
END:STANDARD
END:VTIMEZONE
BEGIN:VEVENT
DTSTART;TZID=Europe/Istanbul:20260303T193000
DTEND;TZID=Europe/Istanbul:20260303T210000
DTSTAMP:20260419T212603
CREATED:20260220T144115Z
LAST-MODIFIED:20260220T144115Z
UID:4986-1772566200-1772571600@fotografmetre.org
SUMMARY:Proje Toplantısı Mimari Fotoğrafçılık
DESCRIPTION:Mimari Fotoğrafçılık proje toplantımızı Mehmet Çetin danışmanlığında 03 Şubat günü Barış Manço Kültür Merkezinde gerçekleştireceğiz. Proje kapsamında ki üyelerimizi bekliyoruz
URL:https://fotografmetre.org/event/proje-toplantisi-mimari-fotografcilik-3/
LOCATION:Barış Manço Kültür Merkezi\, Caferağa\, Nailbey Sk.\, 34710 Kadıköy/İstanbul\, İstanbul\, İstanbul\, 34744\, Turkey
CATEGORIES:PROJE TOPLANTISI
ATTACH;FMTTYPE=image/jpeg:https://fotografmetre.org/wp-content/uploads/2026/02/mimari_mart.jpg
END:VEVENT
BEGIN:VEVENT
DTSTART;TZID=Europe/Istanbul:20260308T170000
DTEND;TZID=Europe/Istanbul:20260315T190000
DTSTAMP:20260419T212603
CREATED:20260227T181126Z
LAST-MODIFIED:20260308T135907Z
UID:5083-1772989200-1773601200@fotografmetre.org
SUMMARY:SINIRLARLA YÜZLEŞMEK FOTOĞRAF SERGİSİ
DESCRIPTION:Türkiye’de kadın varoluşunun görünmez katmanlarını\, doğumdan ölüme uzanan o zorlu ama dirençli yürüyüşü fotoğrafın gücüyle keşfetmeye davetlisiniz. Küratörlüğünü Aylin Turnator’un üstlendiği ve Fotoğrafmetre çatısı altında bir araya gelen sanatçıların objektifinden süzülen bu sergi; bir şikâyet albümü değil\, bir tanıklık ve sessizliği delen bir çığlıktır.\nToplumsal kalıpların\, “namus” hatlarının ve mekanların nasıl cinsiyetlendirildiğinin izini sürdüğümüz bu görsel yolculukta sizleri de aramızda görmekten onur duyarız \n Sergi Bilgileri\n\nAçılış Tarihi: 8 Mart 2026\, Pazar\nAçılış Saati: 17:00\nSergi Süresi: 7 – 15 Mart 2026\nYer: Kadıköy Belediyesi Kozyatağı Kültür Merkezi (KKM)
URL:https://fotografmetre.org/event/5083/
LOCATION:Kozzy AVM Kozyatağı\, Kozyatağı\, Buket Sk. No:14\, 34742 Kadıköy/İstanbul\, İstanbul\, İstanbul\, Turkey
CATEGORIES:SERGİ
ATTACH;FMTTYPE=image/jpeg:https://fotografmetre.org/wp-content/uploads/2026/02/sinirlarlar_yuzlesmek-1.jpg
END:VEVENT
BEGIN:VEVENT
DTSTART;TZID=Europe/Istanbul:20260310T193000
DTEND;TZID=Europe/Istanbul:20260310T203000
DTSTAMP:20260419T212603
CREATED:20260225T133925Z
LAST-MODIFIED:20260225T133925Z
UID:5057-1773171000-1773174600@fotografmetre.org
SUMMARY:Gece Fotoğrafçılığı Eğitimi Şevki Silan
DESCRIPTION:Fotoğraf pratiğimizi arttırmak hem de üyelerimiz ile daha fazla  yüzyüze gelmek  niyeti ile akşam üstü ve gece çekimleri ile ayda bir kaç kere biraraya geleceğiz.\nGece fotoğrafçılığı ilk toplantımızı Şevki Silan danışmanlığın da  Barış Manço Kültür Merkezinde gerçekleştireceğiz. \nBir arada olmayı özleyen üyelerimizi bekliyoruz.
URL:https://fotografmetre.org/event/gece-fotografciligi-egitimi-sevki-silan/
LOCATION:Barış Manço Kültür Merkezi\, Caferağa\, Nailbey Sk.\, 34710 Kadıköy/İstanbul\, İstanbul\, İstanbul\, 34744\, Turkey
CATEGORIES:PROJE TOPLANTISI
ATTACH;FMTTYPE=image/jpeg:https://fotografmetre.org/wp-content/uploads/2026/02/10_mart_sevkisilan_yatay-scaled.jpg
END:VEVENT
BEGIN:VEVENT
DTSTART;TZID=Europe/Istanbul:20260317T193000
DTEND;TZID=Europe/Istanbul:20260317T213000
DTSTAMP:20260419T212603
CREATED:20260227T174433Z
LAST-MODIFIED:20260227T212244Z
UID:5070-1773775800-1773783000@fotografmetre.org
SUMMARY:Maruf Şinik ile Belgesel Fotoğrafçılık
DESCRIPTION:Fotoğrafmetre Derneği Belgesel Fotoğrafçılık Atölyesi \nAnlatıdan Kadraja: Tersine İnşa Yöntemi \n\nProjenin Amacı ve Kapsamı \nBu atölye\, belgesel fotoğrafçılığı teknik bir üretim alanı olmaktan çıkararak düşünsel\, etik ve anlatı temelli bir üretim pratiği olarak ele almayı amaçlar.Programın temel yaklaşımı klasik üretim sıralamasını tersine çevirmektir. Geleneksel süreç “çekim– seçim–sunum” şeklinde ilerlerken\, bu atölyede süreç şu şekilde yapılandırılır: \nTasarla → Çek → Yeniden İnşa Et → Sun \nBu yöntemle katılımcıların rastlantısal üretimden uzaklaşıp bilinçli\, tutarlı ve yapısal bir projegeliştirmesi hedeflenir. Atölye\, orta seviye üreticilere yöneliktir ve tekil kare üretimine değil\, bütünlüklü seri ve proje inşasına odaklanır. \n  \n17 Mart tarihinde ilk toplantısı gerçekleştireceğimiz\, 12 haftalık Belgesel Fotoğrafçılık atölyemizi  Sayın Maruf Şinik danışmanlığında başlatıyor olacağız.\nBelgesel fotoğrafçılık ile ilgili deneyimlerinizi arttırmak isteyen üyelerimizin katılımını bekliyoruz.
URL:https://fotografmetre.org/event/maruf-sinik-ile-belgesel-fotografcilik/
LOCATION:Barış Manço Kültür Merkezi\, Caferağa\, Nailbey Sk.\, 34710 Kadıköy/İstanbul\, İstanbul\, İstanbul\, 34744\, Turkey
CATEGORIES:PROJE TOPLANTISI
ATTACH;FMTTYPE=image/jpeg:https://fotografmetre.org/wp-content/uploads/2026/02/marufsinik_belgesel_yatay.jpg
END:VEVENT
BEGIN:VEVENT
DTSTART;TZID=Europe/Istanbul:20260326T200000
DTEND;TZID=Europe/Istanbul:20260326T220000
DTSTAMP:20260419T212603
CREATED:20260225T132618Z
LAST-MODIFIED:20260225T132751Z
UID:5050-1774555200-1774562400@fotografmetre.org
SUMMARY:İlyas Göçmen ile Sunum Söyleşi
DESCRIPTION:Maltepe Belediyesi ve Kültür Müdürlüğünün katkı ve destekleri ile her ay bir üstadımızı misafir etmeye devam ediyoruz\, Mart ayı misafirimiz Sayın İlyas Göçmen.\n26 Mart tarihinde Maltepe Yaşar Kemal kültür merkezindeki bu etkinliğimizi\, hatıraları\, deneyimleri ile ufkunuzu açacak bir söyleşi bizleri bekliyor. \nTüm Maltepe halkı ve fotoğraf severlere açıktır ve ücretsizdir.
URL:https://fotografmetre.org/event/ilyas-gocmen-ile-sunum-soylesi/
LOCATION:Yaşar Kemal Kültür Merkezi\, Altayçeşme\, Kışlalı Cd.\, 34843 Maltepe/İstanbul811\, İstanbul\, İstanbul\, 34744
CATEGORIES:Sunum Söyleşi
ATTACH;FMTTYPE=image/jpeg:https://fotografmetre.org/wp-content/uploads/2026/02/26_mart_ilyasgocmen_yatay-scaled.jpg
END:VEVENT
BEGIN:VEVENT
DTSTART;TZID=Europe/Istanbul:20260331T193000
DTEND;TZID=Europe/Istanbul:20260331T210000
DTSTAMP:20260419T212603
CREATED:20260225T132032Z
LAST-MODIFIED:20260225T132032Z
UID:5047-1774985400-1774990800@fotografmetre.org
SUMMARY:Sokak Fotoğrafçılığı Proje Toplantısı
DESCRIPTION:Hakan Yaşar danışmanlığındaki Sokak Fotoğrafçılığı projemizin bu ayki toplantısı 31 Mart\, Saat 19:30 da Barış Manço Kültür Merkezinde…
URL:https://fotografmetre.org/event/sokak-fotografciligi-proje-toplantisi-3/
LOCATION:Barış Manço Kültür Merkezi\, Caferağa\, Nailbey Sk.\, 34710 Kadıköy/İstanbul\, İstanbul\, İstanbul\, 34744\, Turkey
CATEGORIES:PROJE TOPLANTISI
ATTACH;FMTTYPE=image/jpeg:https://fotografmetre.org/wp-content/uploads/2026/02/31_mart_hakanyasar_yatay.jpg
END:VEVENT
END:VCALENDAR