BEGIN:VCALENDAR
VERSION:2.0
PRODID:-//Fotoğrafmetre - ECPv6.15.20//NONSGML v1.0//EN
CALSCALE:GREGORIAN
METHOD:PUBLISH
X-ORIGINAL-URL:https://fotografmetre.org
X-WR-CALDESC:Fotoğrafmetre için etkinlikler
REFRESH-INTERVAL;VALUE=DURATION:PT1H
X-Robots-Tag:noindex
X-PUBLISHED-TTL:PT1H
BEGIN:VTIMEZONE
TZID:Europe/Istanbul
BEGIN:STANDARD
TZOFFSETFROM:+0300
TZOFFSETTO:+0300
TZNAME:+03
DTSTART:20240101T000000
END:STANDARD
END:VTIMEZONE
BEGIN:VEVENT
DTSTART;TZID=Europe/Istanbul:20251202T193000
DTEND;TZID=Europe/Istanbul:20251202T220000
DTSTAMP:20260423T060040
CREATED:20251206T123422Z
LAST-MODIFIED:20251206T123422Z
UID:4799-1764703800-1764712800@fotografmetre.org
SUMMARY:Mimari Fotoğrafçılık Proje Toplantısı
DESCRIPTION:02 Aralık Tarihinde Mimari Fotoğrafçılık Proje Atölyesi Barış Manço Kültür Merkezinde toplanıyor.
URL:https://fotografmetre.org/event/mimari-fotografcilik-proje-toplantisi-2/
LOCATION:Barış Manço Kültür Merkezi\, Caferağa\, Nailbey Sk.\, 34710 Kadıköy/İstanbul\, İstanbul\, İstanbul\, 34744\, Turkey
CATEGORIES:PROJE TOPLANTISI
ATTACH;FMTTYPE=image/jpeg:https://fotografmetre.org/wp-content/uploads/2025/12/2_ARALIK.jpg
END:VEVENT
BEGIN:VEVENT
DTSTART;TZID=Europe/Istanbul:20251209T193000
DTEND;TZID=Europe/Istanbul:20251209T213000
DTSTAMP:20260423T060040
CREATED:20251206T123650Z
LAST-MODIFIED:20251206T123650Z
UID:4803-1765308600-1765315800@fotografmetre.org
SUMMARY:Kadın ve Yüzleşme Proje Toplantısı
DESCRIPTION:Kadın ve Yüzleşme Proje Toplantısı\, 09 Aralık günü saat 19:30 da Aylin Turnator danışmanlığında Barış Manço Kültür Merkezi de Toplanıyor.
URL:https://fotografmetre.org/event/kadin-ve-yuzlesme-proje-toplantisi/
LOCATION:Barış Manço Kültür Merkezi\, Caferağa\, Nailbey Sk.\, 34710 Kadıköy/İstanbul\, İstanbul\, İstanbul\, 34744\, Turkey
CATEGORIES:PROJE TOPLANTISI
ATTACH;FMTTYPE=image/jpeg:https://fotografmetre.org/wp-content/uploads/2025/12/9_ARALIK.jpg
END:VEVENT
BEGIN:VEVENT
DTSTART;TZID=Europe/Istanbul:20251216T193000
DTEND;TZID=Europe/Istanbul:20251216T213000
DTSTAMP:20260423T060040
CREATED:20251212T113436Z
LAST-MODIFIED:20251212T113436Z
UID:4831-1765913400-1765920600@fotografmetre.org
SUMMARY:Sokak Fotoğrafçılığı Proje Toplantısı
DESCRIPTION:Hakan Yaşar danışmanlığında bir yıl sürecek olan Sokak Fotoğraflçılığı Atölyemiz ilk toplantımızı 16 Aralık 2025 günü Barış Manço Kültür Merkezin de Saat 19:30 da gerçekleştireceğiz. \nSokak Fotoğrafçılığı  deneyiminizi arttırmak isterseniz bu proje tam size göre…
URL:https://fotografmetre.org/event/sokak-fotografciligi-proje-toplantisi/
LOCATION:Barış Manço Kültür Merkezi\, Caferağa\, Nailbey Sk.\, 34710 Kadıköy/İstanbul\, İstanbul\, İstanbul\, 34744\, Turkey
CATEGORIES:PROJE TOPLANTISI
ATTACH;FMTTYPE=image/jpeg:https://fotografmetre.org/wp-content/uploads/2025/12/Fotografmetre_Sokak_fotografciligi.jpg
END:VEVENT
BEGIN:VEVENT
DTSTART;TZID=Europe/Istanbul:20251218T200000
DTEND;TZID=Europe/Istanbul:20251218T220000
DTSTAMP:20260423T060040
CREATED:20251206T123938Z
LAST-MODIFIED:20251206T123938Z
UID:4806-1766088000-1766095200@fotografmetre.org
SUMMARY:İzzet Keribar ile Fotoğraf Üzerine
DESCRIPTION:İzzet Keribar ile fotoğraf üzerine\nMaltepe Belediyesi desteği ile her ay düzenlediğimiz fotoğraf sanatı ustaları ile sohbetlerimizde bu ayki misafirimiz İzzet Keribar olacak. \nYaşar Kemal Kültür Merkezinde gerçekleştireceğimiz etkinliğimize tüm fotoğraf severler davetlidir.
URL:https://fotografmetre.org/event/izzet-keribar-ile-fotograf-uzerine/
LOCATION:Yaşar Kemal Kültür Merkezi\, Altayçeşme\, Kışlalı Cd.\, 34843 Maltepe/İstanbul811\, İstanbul\, İstanbul\, 34744
CATEGORIES:Sunum Söyleşi
ATTACH;FMTTYPE=image/jpeg:https://fotografmetre.org/wp-content/uploads/2025/12/18_ARALIK.jpg
END:VEVENT
BEGIN:VEVENT
DTSTART;TZID=Europe/Istanbul:20251223T193000
DTEND;TZID=Europe/Istanbul:20251223T213000
DTSTAMP:20260423T060040
CREATED:20251206T124157Z
LAST-MODIFIED:20251206T124157Z
UID:4809-1766518200-1766525400@fotografmetre.org
SUMMARY:Belgesel Fotoğrafçılık Proje Toplantısı
DESCRIPTION:1 yıldır devam eden Belgesel Fotoğrafçılık (Çarpık Kentleşme) Proje Toplantımız.\nBarış Manço Kültür Merkezinde 23 Aralık tarihinde…. \nProje üyelerini bekliyoruz.
URL:https://fotografmetre.org/event/belgesel-fotografcilik-proje-toplantisi-3/
LOCATION:Barış Manço Kültür Merkezi\, Caferağa\, Nailbey Sk.\, 34710 Kadıköy/İstanbul\, İstanbul\, İstanbul\, 34744\, Turkey
CATEGORIES:PROJE TOPLANTISI
ATTACH;FMTTYPE=image/jpeg:https://fotografmetre.org/wp-content/uploads/2025/12/23_ARALIK.jpg
END:VEVENT
BEGIN:VEVENT
DTSTART;TZID=Europe/Istanbul:20251225T203000
DTEND;TZID=Europe/Istanbul:20251225T213000
DTSTAMP:20260423T060040
CREATED:20251206T124524Z
LAST-MODIFIED:20251206T124524Z
UID:4812-1766694600-1766698200@fotografmetre.org
SUMMARY:İstanbul Bana Masal Anlatma
DESCRIPTION:İstanbul Bana Masal Anlatma\,\nBu ilginç başlık acaba nasıl bir sunumla tamamlanacak\, biz merak ediyoruz\, ya siz? \nSevgili Çağrı İşbilir sunum ve söyleşisi\n25 Aralık tarihinde zoom üzerinden tüm fotoğraf severlere açıktır. \nZoom id: 898 7173 0562\nŞifre: 270012
URL:https://fotografmetre.org/event/istanbul-bana-masal-anlatma/
LOCATION:ZOOM
ATTACH;FMTTYPE=image/jpeg:https://fotografmetre.org/wp-content/uploads/2025/12/25_ARALIK.jpg
END:VEVENT
BEGIN:VEVENT
DTSTART;TZID=Europe/Istanbul:20251230T193000
DTEND;TZID=Europe/Istanbul:20251230T213000
DTSTAMP:20260423T060040
CREATED:20251206T124755Z
LAST-MODIFIED:20251206T124755Z
UID:4815-1767123000-1767130200@fotografmetre.org
SUMMARY:Gılcan Mete - Proje Toplantısı
DESCRIPTION:Gılcan Mete danışmanlığında ki proje toplantımız  Barış Manço Kültür Merkezinde.\n30 Aralık – 19:30 \n 
URL:https://fotografmetre.org/event/gilcan-mete-proje-toplantisi/
LOCATION:Barış Manço Kültür Merkezi\, Caferağa\, Nailbey Sk.\, 34710 Kadıköy/İstanbul\, İstanbul\, İstanbul\, 34744\, Turkey
CATEGORIES:PROJE TOPLANTISI
ATTACH;FMTTYPE=image/jpeg:https://fotografmetre.org/wp-content/uploads/2025/12/30_ARALIK.jpg
END:VEVENT
END:VCALENDAR