BEGIN:VCALENDAR
VERSION:2.0
PRODID:-//Fotoğrafmetre - ECPv6.15.20//NONSGML v1.0//EN
CALSCALE:GREGORIAN
METHOD:PUBLISH
X-WR-CALNAME:Fotoğrafmetre
X-ORIGINAL-URL:https://fotografmetre.org
X-WR-CALDESC:Fotoğrafmetre için etkinlikler
REFRESH-INTERVAL;VALUE=DURATION:PT1H
X-Robots-Tag:noindex
X-PUBLISHED-TTL:PT1H
BEGIN:VTIMEZONE
TZID:Europe/Istanbul
BEGIN:STANDARD
TZOFFSETFROM:+0300
TZOFFSETTO:+0300
TZNAME:+03
DTSTART:20240101T000000
END:STANDARD
END:VTIMEZONE
BEGIN:VEVENT
DTSTART;TZID=Europe/Istanbul:20250403T203000
DTEND;TZID=Europe/Istanbul:20250403T220000
DTSTAMP:20260424T020011
CREATED:20250401T124645Z
LAST-MODIFIED:20250401T124645Z
UID:4175-1743712200-1743717600@fotografmetre.org
SUMMARY:Ramiz Şahin - Still life Söyleşi
DESCRIPTION:3 Nisan 2025 Perşembe akşamı online buluşmalarda Sevgili Ramiz Şahin’i konuk ediyoruz.\nSaat 20.30’da ” Still Life” konusunda eğitim tadında bir buluşma gerçekleştireceğiz. \nZoom id: 879 1872 1670\nŞifre: 270912
URL:https://fotografmetre.org/event/ramiz-sahin-still-life-soylesi/
LOCATION:ZOOM
CATEGORIES:Sunum Söyleşi
ATTACH;FMTTYPE=image/jpeg:https://fotografmetre.org/wp-content/uploads/2025/04/03_nisan_ramiz.jpg
END:VEVENT
BEGIN:VEVENT
DTSTART;TZID=Europe/Istanbul:20250407T200000
DTEND;TZID=Europe/Istanbul:20250407T223000
DTSTAMP:20260424T020011
CREATED:20250328T120245Z
LAST-MODIFIED:20250328T125139Z
UID:4167-1744056000-1744065000@fotografmetre.org
SUMMARY:Gezi Fotoğrafçılığı Buluşmaları
DESCRIPTION:07 Nisan 2025\, saat 20:00 ‘ da Gezi fotoğrafçılığı buluşmaları başlığı ile Değerli Fotoğraf ustalarımızla yapacağımız panele davetlisiniz. \n 
URL:https://fotografmetre.org/event/gezi-fotografciligi-bulusmalari/
LOCATION:Kozzy AVM Kozyatağı\, Kozyatağı\, Buket Sk. No:14\, 34742 Kadıköy/İstanbul\, İstanbul\, İstanbul\, Turkey
CATEGORIES:Sunum Söyleşi
ATTACH;FMTTYPE=image/jpeg:https://fotografmetre.org/wp-content/uploads/2025/03/fotografmetre_geifotografciligi.jpg
END:VEVENT
BEGIN:VEVENT
DTSTART;TZID=Europe/Istanbul:20250408T193000
DTEND;TZID=Europe/Istanbul:20250408T210000
DTSTAMP:20260424T020011
CREATED:20250401T124843Z
LAST-MODIFIED:20250401T124843Z
UID:4178-1744140600-1744146000@fotografmetre.org
SUMMARY:Doğa Manzara Grup Toplantısı
DESCRIPTION:Her ay gerçekleştirdiğimiz Doğa ve Manzara Atölyesi toplantımızı 08 Nisan da Barış Manço Kültür merkezinde gerçekleştireceğiz. \n  \n 
URL:https://fotografmetre.org/event/doga-manzara-grup-toplantisi/
LOCATION:Barış Manço Kültür Merkezi\, Caferağa\, Nailbey Sk.\, 34710 Kadıköy/İstanbul\, İstanbul\, İstanbul\, 34744\, Turkey
CATEGORIES:PROJE TOPLANTISI
ATTACH;FMTTYPE=image/jpeg:https://fotografmetre.org/wp-content/uploads/2025/04/08_nisan_doga.jpg
END:VEVENT
BEGIN:VEVENT
DTSTART;TZID=Europe/Istanbul:20250410T203000
DTEND;TZID=Europe/Istanbul:20250410T210000
DTSTAMP:20260424T020011
CREATED:20250401T125209Z
LAST-MODIFIED:20250401T125209Z
UID:4181-1744317000-1744318800@fotografmetre.org
SUMMARY:19. Sami Güner Kupası Gösterisi
DESCRIPTION:Sevgili Nevra Topalismailoğlu ve Mustafa Şahin’in. 19. Sami Güner Kupası sunumları Online söyleşileri ile bizlerle olacak. \nZoom id: 878 8745 6292\nŞifre: 270912
URL:https://fotografmetre.org/event/19-sami-guner-kupasi-gosterisi/
LOCATION:ZOOM
CATEGORIES:Sunum Söyleşi
ATTACH;FMTTYPE=image/jpeg:https://fotografmetre.org/wp-content/uploads/2025/04/10_nisan_sami.jpg
END:VEVENT
BEGIN:VEVENT
DTSTART;TZID=Europe/Istanbul:20250415T193000
DTEND;TZID=Europe/Istanbul:20250415T210000
DTSTAMP:20260424T020011
CREATED:20250401T125415Z
LAST-MODIFIED:20250401T125415Z
UID:4184-1744745400-1744750800@fotografmetre.org
SUMMARY:Mimari Fotoğrafçılık Atölye Toplantısı
DESCRIPTION:Her ay eğitim ve değerlendirmeleri devam eden Mimari Fotoğrafçılık Atölyemiz\, 15 Nisan Saat: 19.30 da Barış Manço Kültür Merkezinde.
URL:https://fotografmetre.org/event/mimari-fotografcilik-atolye-toplantisi/
LOCATION:Barış Manço Kültür Merkezi\, Caferağa\, Nailbey Sk.\, 34710 Kadıköy/İstanbul\, İstanbul\, İstanbul\, 34744\, Turkey
CATEGORIES:PROJE TOPLANTISI
ATTACH;FMTTYPE=image/jpeg:https://fotografmetre.org/wp-content/uploads/2025/04/15_nisan_mimari.jpg
END:VEVENT
BEGIN:VEVENT
DTSTART;TZID=Europe/Istanbul:20250417T203000
DTEND;TZID=Europe/Istanbul:20250417T220000
DTSTAMP:20260424T020011
CREATED:20250408T161439Z
LAST-MODIFIED:20250408T161439Z
UID:4208-1744921800-1744927200@fotografmetre.org
SUMMARY:Üye sunumları - Sülen Kırgezen ve Cem Önal
DESCRIPTION:17 Nisan Perşembe\, Saat:20.30\nÜye sunumlarımız da yönetim kurulu üyelerimiz Sevgili Sülen Kırgezen ve Cem Önal’ın sunumlarını izleyeceğiz. \nEtkinliğimiz zoom üzerinden yapılacaktır. \nZoom id: 812 6193 1419\nşifre: 270912
URL:https://fotografmetre.org/event/uye-sunumlari-sulen-kirgezen-ve-cem-onal/
LOCATION:ZOOM
CATEGORIES:Sunum Söyleşi
ATTACH;FMTTYPE=image/jpeg:https://fotografmetre.org/wp-content/uploads/2025/04/fotografmetre_sunum_Cem_sulen.jpg
END:VEVENT
BEGIN:VEVENT
DTSTART;TZID=Europe/Istanbul:20250422T193000
DTEND;TZID=Europe/Istanbul:20250422T210000
DTSTAMP:20260424T020011
CREATED:20250401T125630Z
LAST-MODIFIED:20250401T125630Z
UID:4187-1745350200-1745355600@fotografmetre.org
SUMMARY:Astro Fotoğrafçılık Proje Toplantısı
DESCRIPTION:Her ay eğitim ve değerlendirmelerine devam ettiğimiz Astro Fotoğrafçılık Atölye toplantımız 22 Nisan Saat 19.30 da Barış Manço Kültür Merkezinde.
URL:https://fotografmetre.org/event/astro-fotografcilik-proje-toplantisi/
LOCATION:Barış Manço Kültür Merkezi\, Caferağa\, Nailbey Sk.\, 34710 Kadıköy/İstanbul\, İstanbul\, İstanbul\, 34744\, Turkey
CATEGORIES:PROJE TOPLANTISI
ATTACH;FMTTYPE=image/jpeg:https://fotografmetre.org/wp-content/uploads/2025/04/22_nisan_astro.jpg
END:VEVENT
BEGIN:VEVENT
DTSTART;TZID=Europe/Istanbul:20250424T203000
DTEND;TZID=Europe/Istanbul:20250424T210000
DTSTAMP:20260424T020011
CREATED:20250404T074424Z
LAST-MODIFIED:20250404T074424Z
UID:4193-1745526600-1745528400@fotografmetre.org
SUMMARY:24 Nisan - Neşe Arı Sunum Söyleşi
DESCRIPTION:24 Nisan – Neşe Arı Sunum Söyleşi \nZoom id: 822 4323 1507\nŞifre: 270912
URL:https://fotografmetre.org/event/24-nisan-nese-ari-sunum-soylesi/
LOCATION:İstanbul
CATEGORIES:Sunum Söyleşi
ATTACH;FMTTYPE=image/jpeg:https://fotografmetre.org/wp-content/uploads/2025/04/PHOTO-2025-04-03-22-59-02.jpg
END:VEVENT
BEGIN:VEVENT
DTSTART;TZID=Europe/Istanbul:20250429T193000
DTEND;TZID=Europe/Istanbul:20250429T210000
DTSTAMP:20260424T020011
CREATED:20250408T151030Z
LAST-MODIFIED:20250408T151305Z
UID:4203-1745955000-1745960400@fotografmetre.org
SUMMARY:ÇARPIK KENTLEŞME - BELGESEL FOTOĞRAFÇILIK ATÖLYESİ
DESCRIPTION:Prf. Dr. Özer Kanburoğlu danışmanlığında belgesel fotoğrafçılık  proje toplantımızı yapıyoruz. \nBarış Manço Kültür Merkezi\n29 Nisan 2025 – Saat; 19:30
URL:https://fotografmetre.org/event/carpik-kentlesme-belgesel-fotografcilik-atolyesi/
LOCATION:Barış Manço Kültür Merkezi\, Caferağa\, Nailbey Sk.\, 34710 Kadıköy/İstanbul\, İstanbul\, İstanbul\, 34744\, Turkey
CATEGORIES:PROJE TOPLANTISI
ATTACH;FMTTYPE=image/jpeg:https://fotografmetre.org/wp-content/uploads/2025/04/fotografmtre_belgesel.jpg
END:VEVENT
END:VCALENDAR